BEGIN:VCALENDAR
VERSION:2.0
PRODID:-//Brain Injury Association of Indiana - ECPv6.15.18//NONSGML v1.0//EN
CALSCALE:GREGORIAN
METHOD:PUBLISH
X-ORIGINAL-URL:https://biaindiana.org
X-WR-CALDESC:Events for Brain Injury Association of Indiana
REFRESH-INTERVAL;VALUE=DURATION:PT1H
X-Robots-Tag:noindex
X-PUBLISHED-TTL:PT1H
BEGIN:VTIMEZONE
TZID:America/Halifax
BEGIN:DAYLIGHT
TZOFFSETFROM:-0400
TZOFFSETTO:-0300
TZNAME:ADT
DTSTART:20250309T060000
END:DAYLIGHT
BEGIN:STANDARD
TZOFFSETFROM:-0300
TZOFFSETTO:-0400
TZNAME:AST
DTSTART:20251102T050000
END:STANDARD
BEGIN:DAYLIGHT
TZOFFSETFROM:-0400
TZOFFSETTO:-0300
TZNAME:ADT
DTSTART:20260308T060000
END:DAYLIGHT
BEGIN:STANDARD
TZOFFSETFROM:-0300
TZOFFSETTO:-0400
TZNAME:AST
DTSTART:20261101T050000
END:STANDARD
BEGIN:DAYLIGHT
TZOFFSETFROM:-0400
TZOFFSETTO:-0300
TZNAME:ADT
DTSTART:20270314T060000
END:DAYLIGHT
BEGIN:STANDARD
TZOFFSETFROM:-0300
TZOFFSETTO:-0400
TZNAME:AST
DTSTART:20271107T050000
END:STANDARD
END:VTIMEZONE
BEGIN:VEVENT
DTSTART;TZID=America/Halifax:20260731T170000
DTEND;TZID=America/Halifax:20260731T210000
DTSTAMP:20260419T122941
CREATED:20250529T125945Z
LAST-MODIFIED:20260409T141859Z
UID:1311-1785517200-1785531600@biaindiana.org
SUMMARY:Polo at Sunset
DESCRIPTION:Join BIAI for a FANTASTIC fundraiser supporting Brain Injury Awareness! For over 20 years the Hickory Hall Polo club has been servicing Indiana with a unique family centered social and sporting venue that helps raise money and awareness to the charities it serves. We invite you to come and watch the Sport of Kings and enjoy what Polo has to offer the entire family. \nKick-off your weekend with Polo and Purpose!\nPack your picnic baskets and coolers\, grab your chairs and tailgate items\, and join us for this family friendly event that will include yummy popsicles and t-shirt toss at the half\, a wine/bourbon pull\, and stick pony races following the match. Experience the EXCITING sport of polo while having FUN with family and friends in support of Brain Injury Association of Indiana and our mission. \n🎟️ Admission: General admission tickets are $40 per carload and provide entry to the venue and tailgate spots on a first come\, first served basis along the east sideline. VIP Sponsorships are also available in support of BIAI and provide an opportunity for promotion of your business and the benefits of a reserved\, VIP tailgate location along the west sideline. \n📅 Date: Friday\, July 31\, 2026📍 Location: Hickory Hall Polo Club\, 7551 E 100 N\, Whitestown\, IN 46075 \n🕒 Time:  5:00 PM:  Gates open \n5:00-6:00 PM: Family-friendly tailgating and mingling with friends-pack your coolers and picnic baskets\, bring your blankets and camp chairs (no concessions on site – outside food and beverages\, including alcoholic\, are welcome and encouraged)\nGates close at 6PM for the safety of players and spectators so arrive early to secure your tailgate spot and catch all of the action!\n6:00 PM: Match begins and consists of 4-6 chukkars (7 minute segments of play)\nDog Policy: All well behaved dogs are welcome to attend! They must be leashed at all times for their safety and that of our other four-legged friends both canine and equine.  We do ask that you bring along bags to clean up after your pooch! \nAll proceeds benefit the Brain Injury Association of Indiana\, supporting survivors and promoting education\, prevention\, and advocacy throughout the state. \nWatch for more information to come soon!\n 
URL:https://biaindiana.org/event/polo-at-sunset/
LOCATION:Hickory Hall Polo Club\, 7551 E. 100 North\, Whitestown\, Indiana\, United States
ATTACH;FMTTYPE=image/png:https://biaindiana.org/wp-content/uploads/2025/04/Screenshot-2025-04-21-at-10.01.01-AM.png
END:VEVENT
BEGIN:VEVENT
DTSTART;TZID=America/Halifax:20260919T090000
DTEND;TZID=America/Halifax:20260919T170000
DTSTAMP:20260419T122941
CREATED:20260409T143321Z
LAST-MODIFIED:20260409T145218Z
UID:1693-1789808400-1789837200@biaindiana.org
SUMMARY:BIAI 5th Annual Wiffleball Tournament!
DESCRIPTION:⚾ BIAI 5th Annual Wiffleball Tournament\nThe Brain Injury Association of Indiana is excited to announce our 5th Annual Wiffleball Tournament! Join us on Saturday\, September 19 at a beautiful new location in Westfield\, Indiana for a day full of fun\, community\, and impact 💜 \nCome be part of an exciting\, family-friendly event supporting BIAI’s mission to provide education\, advocacy\, and resources for Hoosiers impacted by brain injury. All proceeds directly support programs and initiatives that make a difference across our state. \nEnjoy a full day of:\n⚾ Team-based wiffleball games🎭 Costume contests🎟️ Raffles🛒 Virtual silent auction🛍️ Vendor fair🎯 Games & activities for all ages \nWhether you’re playing\, cheering\, or just coming for the fun—there’s something for everyone! \nMore details coming soon—stay tuned!
URL:https://biaindiana.org/event/biai-5th-annual-wiffleball-tournament/
LOCATION:Lord of Life Lutheran Church\, 4283 E 191st St\, Westfield\, IN\, 46062\, United States
ORGANIZER;CN="Brain Injury Association of Indiana":MAILTO:biassociationofindiana@gmail.com
END:VEVENT
END:VCALENDAR